BEGIN:VCALENDAR
VERSION:2.0
PRODID:-//KULTUR-APOTHEKE - ECPv6.15.20//NONSGML v1.0//EN
CALSCALE:GREGORIAN
METHOD:PUBLISH
X-WR-CALNAME:KULTUR-APOTHEKE
X-ORIGINAL-URL:https://kultur-apotheke.de
X-WR-CALDESC:Veranstaltungen für KULTUR-APOTHEKE
REFRESH-INTERVAL;VALUE=DURATION:PT1H
X-Robots-Tag:noindex
X-PUBLISHED-TTL:PT1H
BEGIN:VTIMEZONE
TZID:Europe/Paris
BEGIN:DAYLIGHT
TZOFFSETFROM:+0100
TZOFFSETTO:+0200
TZNAME:CEST
DTSTART:20250330T010000
END:DAYLIGHT
BEGIN:STANDARD
TZOFFSETFROM:+0200
TZOFFSETTO:+0100
TZNAME:CET
DTSTART:20251026T010000
END:STANDARD
BEGIN:DAYLIGHT
TZOFFSETFROM:+0100
TZOFFSETTO:+0200
TZNAME:CEST
DTSTART:20260329T010000
END:DAYLIGHT
BEGIN:STANDARD
TZOFFSETFROM:+0200
TZOFFSETTO:+0100
TZNAME:CET
DTSTART:20261025T010000
END:STANDARD
BEGIN:DAYLIGHT
TZOFFSETFROM:+0100
TZOFFSETTO:+0200
TZNAME:CEST
DTSTART:20270328T010000
END:DAYLIGHT
BEGIN:STANDARD
TZOFFSETFROM:+0200
TZOFFSETTO:+0100
TZNAME:CET
DTSTART:20271031T010000
END:STANDARD
END:VTIMEZONE
BEGIN:VEVENT
DTSTART;TZID=Europe/Paris:20260423T193000
DTEND;TZID=Europe/Paris:20260423T210000
DTSTAMP:20260423T131144
CREATED:20260318T162713Z
LAST-MODIFIED:20260412T103700Z
UID:2450-1776972600-1776978000@kultur-apotheke.de
SUMMARY:Multivisionsschau: Nepal hautnah erleben
DESCRIPTION:Hohe Hängebrücken über türkisfarbenen Flüssen\, kleine Sherpa-Dörfer zwischen schneebedeckten Gipfeln und die gewaltige Weite des Himalaya – diese Reise führt in eine der eindrucksvollsten Landschaften der Welt. In Bildern\, kurzen Filmszenen und persönlichen Geschichten nimmt Alex Kijak die Besucherinnen und Besucher der Kultur-Apotheke mit auf eine Trekkingreise durch die Everest-Region: von der spektakulären Landung in Lukla über abgelegene Bergdörfer bis hin zum Everest Base Camp und zum Sonnenaufgang am Kala Pattar.\nAlexander Kijak präsentiert mehr als einen klassischen Reisebericht. Er schildert eine Geschichte über Begegnungen\, über das Unterwegssein in großer Höhe – und über Momente der Stille in einer Landschaft\, die größer wirkt als jede Vorstellung. Den Abschluss des Abends bildet ein cinematischer Film\, der die Eindrücke dieser Reise in bewegten Bildern und Musik einfängt.\nEin Abend für alle\, die die Faszination der Berge spüren\, von fernen Landschaften träumen – oder einfach für einen Moment in die Welt des Himalaya eintauchen möchten. \nIm Rahmen des Vortrags wird sich auch die von Heidi und Gerhard Schneider vor Jahren in Wildberg gegründete Hilfsorganisation „Hand2Hand“ vorstellen\, die Menschen in schwierigen Lebenssituationen in Nepal unterstützt. \n\nUnsere Ticketpreise:\n„Kassenpatient“ (Standardpreis): 10 Euro\n„Privatpatient“ (Standardpreis plus Kulturförder-Zuschlag): 14 Euro\n„Unversichert“ (ermäßigter Preis): 7 Euro\nHier gibt’s Tickets online
URL:https://kultur-apotheke.de/event/multivisionsvortrag-ueber-nepal/
CATEGORIES:Vortrag
ATTACH;FMTTYPE=image/jpeg:https://kultur-apotheke.de/wp-content/uploads/2026/03/251027_ALEXKIJAK_0991_kl.jpg
END:VEVENT
END:VCALENDAR